BEGIN:VCALENDAR
VERSION:2.0
PRODID:-//University Teaching and Learning Commons - ECPv6.15.17//NONSGML v1.0//EN
CALSCALE:GREGORIAN
METHOD:PUBLISH
X-ORIGINAL-URL:https://utlc.uncg.edu
X-WR-CALDESC:Events for University Teaching and Learning Commons
REFRESH-INTERVAL;VALUE=DURATION:PT1H
X-Robots-Tag:noindex
X-PUBLISHED-TTL:PT1H
BEGIN:VTIMEZONE
TZID:America/New_York
BEGIN:DAYLIGHT
TZOFFSETFROM:-0500
TZOFFSETTO:-0400
TZNAME:EDT
DTSTART:20250309T070000
END:DAYLIGHT
BEGIN:STANDARD
TZOFFSETFROM:-0400
TZOFFSETTO:-0500
TZNAME:EST
DTSTART:20251102T060000
END:STANDARD
BEGIN:DAYLIGHT
TZOFFSETFROM:-0500
TZOFFSETTO:-0400
TZNAME:EDT
DTSTART:20260308T070000
END:DAYLIGHT
BEGIN:STANDARD
TZOFFSETFROM:-0400
TZOFFSETTO:-0500
TZNAME:EST
DTSTART:20261101T060000
END:STANDARD
BEGIN:DAYLIGHT
TZOFFSETFROM:-0500
TZOFFSETTO:-0400
TZNAME:EDT
DTSTART:20270314T070000
END:DAYLIGHT
BEGIN:STANDARD
TZOFFSETFROM:-0400
TZOFFSETTO:-0500
TZNAME:EST
DTSTART:20271107T060000
END:STANDARD
END:VTIMEZONE
BEGIN:VEVENT
DTSTART;TZID=America/New_York:20260512T080000
DTEND;TZID=America/New_York:20260512T170000
DTSTAMP:20260424T130636
CREATED:20260129T190641Z
LAST-MODIFIED:20260129T190641Z
UID:10001999-1778572800-1778605200@utlc.uncg.edu
SUMMARY:In The First Institute
DESCRIPTION:Are you teaching a 100/200 level course? A student’s first semester is critical to their academic success – courses that are “In the First!” inning of the academic career set up the whole game.\n\n\n\nThis daylong Institute focuses on the unique teaching needs of 100/200 level courses. Participants will learn more about our incoming students\, how to prepare for their unique needs\, and the tools available to you for supporting them.\n\n\n\nSave the DATE! RSVP coming soon.
URL:https://utlc.uncg.edu/event/in-the-first-institute-2/
CATEGORIES:100/200 Level Course Support,Educational Development
END:VEVENT
END:VCALENDAR