BEGIN:VCALENDAR
VERSION:2.0
PRODID:-//University Teaching and Learning Commons - ECPv6.15.17//NONSGML v1.0//EN
CALSCALE:GREGORIAN
METHOD:PUBLISH
X-ORIGINAL-URL:https://utlc.uncg.edu
X-WR-CALDESC:Events for University Teaching and Learning Commons
REFRESH-INTERVAL;VALUE=DURATION:PT1H
X-Robots-Tag:noindex
X-PUBLISHED-TTL:PT1H
BEGIN:VTIMEZONE
TZID:America/New_York
BEGIN:DAYLIGHT
TZOFFSETFROM:-0500
TZOFFSETTO:-0400
TZNAME:EDT
DTSTART:20220313T070000
END:DAYLIGHT
BEGIN:STANDARD
TZOFFSETFROM:-0400
TZOFFSETTO:-0500
TZNAME:EST
DTSTART:20221106T060000
END:STANDARD
BEGIN:DAYLIGHT
TZOFFSETFROM:-0500
TZOFFSETTO:-0400
TZNAME:EDT
DTSTART:20230312T070000
END:DAYLIGHT
BEGIN:STANDARD
TZOFFSETFROM:-0400
TZOFFSETTO:-0500
TZNAME:EST
DTSTART:20231105T060000
END:STANDARD
BEGIN:DAYLIGHT
TZOFFSETFROM:-0500
TZOFFSETTO:-0400
TZNAME:EDT
DTSTART:20240310T070000
END:DAYLIGHT
BEGIN:STANDARD
TZOFFSETFROM:-0400
TZOFFSETTO:-0500
TZNAME:EST
DTSTART:20241103T060000
END:STANDARD
BEGIN:DAYLIGHT
TZOFFSETFROM:-0500
TZOFFSETTO:-0400
TZNAME:EDT
DTSTART:20250309T070000
END:DAYLIGHT
BEGIN:STANDARD
TZOFFSETFROM:-0400
TZOFFSETTO:-0500
TZNAME:EST
DTSTART:20251102T060000
END:STANDARD
BEGIN:DAYLIGHT
TZOFFSETFROM:-0500
TZOFFSETTO:-0400
TZNAME:EDT
DTSTART:20260308T070000
END:DAYLIGHT
BEGIN:STANDARD
TZOFFSETFROM:-0400
TZOFFSETTO:-0500
TZNAME:EST
DTSTART:20261101T060000
END:STANDARD
END:VTIMEZONE
BEGIN:VEVENT
DTSTART;TZID=America/New_York:20251204T160000
DTEND;TZID=America/New_York:20251204T170000
DTSTAMP:20260420T105156
CREATED:20251105T194739Z
LAST-MODIFIED:20251105T194739Z
UID:10001994-1764864000-1764867600@utlc.uncg.edu
SUMMARY:UTLC Biergarten
DESCRIPTION:UTLC Faculty Biergarten: \nThursday\, December 4 at the Weatherspoon Art Museum \nOpen to all UNCG instructors! \n\n\n\n\n\n\n\n\n\n\nJoin us for the Fall UTLC Biergarten to celebrate the end of the semester! This is an opportunity to gather informally with colleagues and relax with a variety of hors d’oeuvres and beverages (alcoholic and non-alcoholic beverages will be served). This is a casual\, drop-in event so feel free to attend for a long or as little as you are able.
URL:https://utlc.uncg.edu/event/utlc-biergarten/
CATEGORIES:Gatherings
END:VEVENT
BEGIN:VEVENT
DTSTART;TZID=America/New_York:20250430T160000
DTEND;TZID=America/New_York:20250430T170000
DTSTAMP:20260420T105156
CREATED:20250204T161912Z
LAST-MODIFIED:20250204T161912Z
UID:10000039-1746028800-1746032400@utlc.uncg.edu
SUMMARY:Spring 2025 UTLC Biergarten
DESCRIPTION:The UTLC holds Biergartens at the end of each semester to celebrate instructors’ dedication to teaching\, learning\, and student success. This is an opportunity to gather with colleagues and relax with hors d’oeuvres and beverages (both alcoholic and non-alcoholic).
URL:https://utlc.uncg.edu/event/spring-2025-utlc-biergarten/
LOCATION:Weatherspoon Art Museum
CATEGORIES:Gatherings
END:VEVENT
BEGIN:VEVENT
DTSTART;TZID=America/New_York:20250225T090000
DTEND;TZID=America/New_York:20250225T100000
DTSTAMP:20260420T105156
CREATED:20250128T185345Z
LAST-MODIFIED:20250204T161458Z
UID:10000037-1740474000-1740477600@utlc.uncg.edu
SUMMARY:UTLC Coffeehouse in Conjunction with the Office of the Provost
DESCRIPTION:Join us and the Office of the Provost for a faculty coffeehouse to gather informally with colleagues while enjoying an assortment of catered hot beverages and breakfast snacks. We will also be giving away UTLC swag so we hope to see you there! \nCoffeehouse is a casual\, drop-in event so feel free to attend for a long or as little as you are able. Consider bringing your own mug to support our efforts to be more sustainable.
URL:https://utlc.uncg.edu/event/utlc-coffeehouse-in-conjunction-with-the-office-of-the-provost/
LOCATION:Mossman Building Atrium
CATEGORIES:Gatherings
END:VEVENT
BEGIN:VEVENT
DTSTART;TZID=America/New_York:20241204T163000
DTEND;TZID=America/New_York:20241204T173000
DTSTAMP:20260420T105156
CREATED:20241021T185737Z
LAST-MODIFIED:20241021T185737Z
UID:10000026-1733329800-1733333400@utlc.uncg.edu
SUMMARY:Fall 2024 UTLC Biergarten
DESCRIPTION:Celebrate the end of the semester with the UTLC! This is an opportunity to gather informally with colleagues and relax with hors d’oeuvres and beverages (both alcoholic and non-alcoholic beverages will be served).
URL:https://utlc.uncg.edu/event/fall-2024-utlc-biergarten/
LOCATION:Faculty Center
CATEGORIES:Gatherings
END:VEVENT
BEGIN:VEVENT
DTSTART;TZID=America/New_York:20241023T100000
DTEND;TZID=America/New_York:20241023T110000
DTSTAMP:20260420T105156
CREATED:20240819T171839Z
LAST-MODIFIED:20240819T171839Z
UID:10000024-1729677600-1729681200@utlc.uncg.edu
SUMMARY:UTLC Coffeehouse
DESCRIPTION:CoffeeHouses are a space to gather with colleagues. No set agenda\, just coffee (or tea)\, snacks\, and great conversation. This year\, Coffeehouses will be hosted in different locations across campus. As always\, coffeehouses are open to all instructors at UNCG. Consider bringing a reusable coffee mug in order to make our efforts more sustainable!
URL:https://utlc.uncg.edu/event/utlc-coffeehouse-october-2024/
LOCATION:Weatherspoon Art Museum
CATEGORIES:Gatherings
END:VEVENT
BEGIN:VEVENT
DTSTART;TZID=America/New_York:20240827T090000
DTEND;TZID=America/New_York:20240827T100000
DTSTAMP:20260420T105156
CREATED:20240819T134237Z
LAST-MODIFIED:20240823T134036Z
UID:10000022-1724749200-1724752800@utlc.uncg.edu
SUMMARY:UTLC Coffeehouse
DESCRIPTION:CoffeeHouses are a space to gather with colleagues. No set agenda\, just coffee (or tea)\, snacks\, and great conversation. This year\, Coffeehouses will be hosted in different locations across campus. As always\, coffeehouses are open to all instructors at UNCG. Consider bringing a reusable coffee mug in order to make our efforts more sustainable!
URL:https://utlc.uncg.edu/event/utlc-coffeehouse-august-2024/
LOCATION:Nursing and Instructional Building\, Room 120\, 1007 Walker Ave\, Greensboro\, 27212
CATEGORIES:Gatherings
END:VEVENT
BEGIN:VEVENT
DTSTART;TZID=America/New_York:20240424T160000
DTEND;TZID=America/New_York:20240424T170000
DTSTAMP:20260420T105156
CREATED:20240325T193256Z
LAST-MODIFIED:20240402T165133Z
UID:10000020-1713974400-1713978000@utlc.uncg.edu
SUMMARY:Spring 2024 UTLC Biergarten
DESCRIPTION:Celebrate the end of the semester with the UTLC! This is an opportunity to gather informally with colleagues and relax with hors d’oeuvres and beverages (both alcoholic and non-alcoholic beverages will be served).
URL:https://utlc.uncg.edu/event/sp24-biergarten/
LOCATION:Weatherspoon Art Museum
CATEGORIES:Gatherings
END:VEVENT
BEGIN:VEVENT
DTSTART;TZID=America/New_York:20240403T090000
DTEND;TZID=America/New_York:20240403T110000
DTSTAMP:20260420T105156
CREATED:20240112T164736Z
LAST-MODIFIED:20240213T194513Z
UID:10000016-1712134800-1712142000@utlc.uncg.edu
SUMMARY:UTLC Coffeehouse co-hosted by the School of Theatre
DESCRIPTION:CoffeeHouses are a space to gather with colleagues. No set agenda\, just coffee (or tea)\, snacks\, and great conversation. This year\, Coffeehouses will be co-hosted and held in academic units across campus. As always\, coffeehouses are open to all instructors at UNCG regardless of location or co-hosting department. Consider bringing a reusable coffee mug in order to make our efforts more sustainable!
URL:https://utlc.uncg.edu/event/utlc-coffeehouse-school-of-theatre/
LOCATION:Sprinkle Theatre (Brown Building)\, 402 Tate St\, Greensboro\, NC\, 27412\, United States
CATEGORIES:Gatherings
END:VEVENT
BEGIN:VEVENT
DTSTART;TZID=America/New_York:20240312T100000
DTEND;TZID=America/New_York:20240312T110000
DTSTAMP:20260420T105156
CREATED:20240103T161132Z
LAST-MODIFIED:20240213T194605Z
UID:10000011-1710237600-1710241200@utlc.uncg.edu
SUMMARY:UTLC Coffeehouse co-hosted by the Department of Management
DESCRIPTION:CoffeeHouses are a space to gather with colleagues. No set agenda\, just coffee (or tea)\, snacks\, and great conversation. This year\, Coffeehouses will be co-hosted and held in academic units across campus. As always\, coffeehouses are open to all instructors at UNCG regardless of location or co-hosting department. Consider bringing a reusable coffee mug in order to make our efforts more sustainable!
URL:https://utlc.uncg.edu/event/utlc-coffeehouse-management/
LOCATION:Bryan School of Business and Economics\, Room 360\, 516 Stirling St.\, Greensboro\, NC\, 27412\, United States
CATEGORIES:Gatherings
END:VEVENT
BEGIN:VEVENT
DTSTART;TZID=America/New_York:20240221T100000
DTEND;TZID=America/New_York:20240221T110000
DTSTAMP:20260420T105156
CREATED:20240103T160914Z
LAST-MODIFIED:20240213T194739Z
UID:10000010-1708509600-1708513200@utlc.uncg.edu
SUMMARY:UTLC Coffeehouse co-hosted by the Department of Biology
DESCRIPTION:CoffeeHouses are a space to gather with colleagues. No set agenda\, just coffee (or tea)\, snacks\, and great conversation. This year\, Coffeehouses will be co-hosted and held in academic units across campus. As always\, coffeehouses are open to all instructors at UNCG regardless of location or co-hosting department. Consider bringing a reusable coffee mug in order to make our efforts more sustainable!
URL:https://utlc.uncg.edu/event/utlc-biology/
LOCATION:Eberhart Building\, Room 310\, 321 McIver Street\, Greensboro\, 27412\, United States
CATEGORIES:Gatherings
END:VEVENT
BEGIN:VEVENT
DTSTART;TZID=America/New_York:20240125T090000
DTEND;TZID=America/New_York:20240125T100000
DTSTAMP:20260420T105156
CREATED:20240103T160543Z
LAST-MODIFIED:20240103T160625Z
UID:10000009-1706173200-1706176800@utlc.uncg.edu
SUMMARY:UTLC Coffeehouse co-hosted by the School of Health and Human Sciences
DESCRIPTION:CoffeeHouses are a space to gather with colleagues. No set agenda\, just coffee (or tea)\, snacks\, and great conversation. This fall\, Coffeehouses will be co-hosted and held in academic units across campus. As always\, coffeehouses are open to all instructors at UNCG regardless of location or co-hosting department. Consider bringing a reusable coffee mug in order to make our efforts more sustainable!
URL:https://utlc.uncg.edu/event/utlc-coffeehouse-hhs/
LOCATION:Nursing and Instructional Building\, Room 124\, 1007 Walker Ave.\, Greensboro\, NC\, 27412\, United States
CATEGORIES:Gatherings
END:VEVENT
BEGIN:VEVENT
DTSTART;TZID=America/New_York:20231129T160000
DTEND;TZID=America/New_York:20231129T170000
DTSTAMP:20260420T105156
CREATED:20230920T192038Z
LAST-MODIFIED:20230929T180147Z
UID:10000008-1701273600-1701277200@utlc.uncg.edu
SUMMARY:Biergarten
DESCRIPTION:Celebrate the end of the semester with the UTLC! This is an opportunity to gather informally with colleagues and relax with hors d’oeuvres and beverages (both alcoholic and non-alcoholic beverages will be served).
URL:https://utlc.uncg.edu/event/biergarten/
LOCATION:Faculty Center
CATEGORIES:Gatherings
END:VEVENT
BEGIN:VEVENT
DTSTART;TZID=America/New_York:20231116T090000
DTEND;TZID=America/New_York:20231116T100000
DTSTAMP:20260420T105156
CREATED:20230918T152113Z
LAST-MODIFIED:20230918T152113Z
UID:10000007-1700125200-1700128800@utlc.uncg.edu
SUMMARY:UTLC Coffeehouse co-hosted by the School of Art
DESCRIPTION:CoffeeHouses are a space to gather with colleagues. No set agenda\, just coffee (or tea)\, snacks\, and great conversation. This fall\, Coffeehouses will be co-hosted and held in academic units across campus. As always\, coffeehouses are open to all instructors at UNCG regardless of location or co-hosting department. Consider bringing a reusable coffee mug in order to make our efforts more sustainable!
URL:https://utlc.uncg.edu/event/utlc-coffeehouse-co-hosted-by-the-school-of-art/
LOCATION:Gatewood Studio Arts Building
CATEGORIES:Gatherings
END:VEVENT
BEGIN:VEVENT
DTSTART;TZID=America/New_York:20231101T090000
DTEND;TZID=America/New_York:20231101T100000
DTSTAMP:20260420T105156
CREATED:20230918T151958Z
LAST-MODIFIED:20230918T151958Z
UID:10000006-1698829200-1698832800@utlc.uncg.edu
SUMMARY:UTLC Coffeehouse co-hosted by the Department of Sociology
DESCRIPTION:CoffeeHouses are a space to gather with colleagues. No set agenda\, just coffee (or tea)\, snacks\, and great conversation. This fall\, Coffeehouses will be co-hosted and held in academic units across campus. As always\, coffeehouses are open to all instructors at UNCG regardless of location or co-hosting department. Consider bringing a reusable coffee mug in order to make our efforts more sustainable!
URL:https://utlc.uncg.edu/event/utlc-coffeehouse-co-hosted-by-the-department-of-sociology/
LOCATION:Graham Building\, Room 308
CATEGORIES:Gatherings
END:VEVENT
BEGIN:VEVENT
DTSTART;TZID=America/New_York:20231024T090000
DTEND;TZID=America/New_York:20231024T100000
DTSTAMP:20260420T105156
CREATED:20230918T151832Z
LAST-MODIFIED:20230918T151950Z
UID:10000005-1698138000-1698141600@utlc.uncg.edu
SUMMARY:UTLC Coffeehouse co-hosted by the School of Nursing
DESCRIPTION:CoffeeHouses are a space to gather with colleagues. No set agenda\, just coffee (or tea)\, snacks\, and great conversation. This fall\, Coffeehouses will be co-hosted and held in academic units across campus. As always\, coffeehouses are open to all instructors at UNCG regardless of location or co-hosting department. Consider bringing a reusable coffee mug in order to make our efforts more sustainable!
URL:https://utlc.uncg.edu/event/utlc-coffeehouse-co-hosted-by-the-school-of-nursing/
LOCATION:Nursing and Instructional Building\, Room 510
CATEGORIES:Gatherings
END:VEVENT
BEGIN:VEVENT
DTSTART;TZID=America/New_York:20231011T100000
DTEND;TZID=America/New_York:20231011T110000
DTSTAMP:20260420T105156
CREATED:20230918T151747Z
LAST-MODIFIED:20230921T182354Z
UID:10000004-1697018400-1697022000@utlc.uncg.edu
SUMMARY:UTLC Coffeehouse co-hosted by the Department of Languages\, Literatures\, and Cultures
DESCRIPTION:CoffeeHouses are a space to gather with colleagues. No set agenda\, just coffee (or tea)\, snacks\, and great conversation. This fall\, Coffeehouses will be co-hosted and held in academic units across campus. As always\, coffeehouses are open to all instructors at UNCG regardless of location or co-hosting department. Consider bringing a reusable coffee mug in order to make our efforts more sustainable!
URL:https://utlc.uncg.edu/event/utlc-coffeehouse-co-hosted-by-the-department-of-languages-literatures-and-cultures/
LOCATION:Moore Humanities and Research Building\, Room 3501
CATEGORIES:Gatherings
END:VEVENT
BEGIN:VEVENT
DTSTART;TZID=America/New_York:20230927T090000
DTEND;TZID=America/New_York:20230927T100000
DTSTAMP:20260420T105156
CREATED:20230918T151641Z
LAST-MODIFIED:20230918T151641Z
UID:10000003-1695805200-1695808800@utlc.uncg.edu
SUMMARY:UTLC Coffeehouse co-hosted by the Faculty Senate
DESCRIPTION:CoffeeHouses are a space to gather with colleagues. No set agenda\, just coffee (or tea)\, snacks\, and great conversation. This fall\, Coffeehouses will be co-hosted and held in academic units across campus. As always\, coffeehouses are open to all instructors at UNCG regardless of location or co-hosting department. Consider bringing a reusable coffee mug in order to make our efforts more sustainable!
URL:https://utlc.uncg.edu/event/utlc-coffeehouse-co-hosted-by-the-faculty-senate/
LOCATION:School of Music Atrium
CATEGORIES:Gatherings
END:VEVENT
END:VCALENDAR