BEGIN:VCALENDAR
VERSION:2.0
PRODID:-//University Teaching and Learning Commons - ECPv6.15.17//NONSGML v1.0//EN
CALSCALE:GREGORIAN
METHOD:PUBLISH
X-WR-CALNAME:University Teaching and Learning Commons
X-ORIGINAL-URL:https://utlc.uncg.edu
X-WR-CALDESC:Events for University Teaching and Learning Commons
REFRESH-INTERVAL;VALUE=DURATION:PT1H
X-Robots-Tag:noindex
X-PUBLISHED-TTL:PT1H
BEGIN:VTIMEZONE
TZID:America/New_York
BEGIN:DAYLIGHT
TZOFFSETFROM:-0500
TZOFFSETTO:-0400
TZNAME:EDT
DTSTART:20220313T070000
END:DAYLIGHT
BEGIN:STANDARD
TZOFFSETFROM:-0400
TZOFFSETTO:-0500
TZNAME:EST
DTSTART:20221106T060000
END:STANDARD
BEGIN:DAYLIGHT
TZOFFSETFROM:-0500
TZOFFSETTO:-0400
TZNAME:EDT
DTSTART:20230312T070000
END:DAYLIGHT
BEGIN:STANDARD
TZOFFSETFROM:-0400
TZOFFSETTO:-0500
TZNAME:EST
DTSTART:20231105T060000
END:STANDARD
BEGIN:DAYLIGHT
TZOFFSETFROM:-0500
TZOFFSETTO:-0400
TZNAME:EDT
DTSTART:20240310T070000
END:DAYLIGHT
BEGIN:STANDARD
TZOFFSETFROM:-0400
TZOFFSETTO:-0500
TZNAME:EST
DTSTART:20241103T060000
END:STANDARD
BEGIN:DAYLIGHT
TZOFFSETFROM:-0500
TZOFFSETTO:-0400
TZNAME:EDT
DTSTART:20250309T070000
END:DAYLIGHT
BEGIN:STANDARD
TZOFFSETFROM:-0400
TZOFFSETTO:-0500
TZNAME:EST
DTSTART:20251102T060000
END:STANDARD
END:VTIMEZONE
BEGIN:VEVENT
DTSTART;TZID=America/New_York:20240924T130000
DTEND;TZID=America/New_York:20240924T140000
DTSTAMP:20260425T205841
CREATED:20240909T132640Z
LAST-MODIFIED:20240909T132745Z
UID:10000025-1727182800-1727186400@utlc.uncg.edu
SUMMARY:VOISES Panel | Hispanic and Latinx Student Experiences
DESCRIPTION:Registration is required for this event. Register here to receive the full event details (including location) and a calendar invitation confirming your registration. \nJoin the UTLC and Office of Intercultural Engagement for a conversation about key UNCG student experiences in the classroom and beyond. VOISES panels provide a venue for faculty to hear the perspective of students from marginalized identity groups on campus. These moderated panels give faculty the chance to ask questions while reflecting on issues of equity\, diversity\, and inclusion at UNCG. \n 
URL:https://utlc.uncg.edu/event/voises-panel-latinx-student-experiences-2/
CATEGORIES:Educational Development,VOISES Panel
END:VEVENT
BEGIN:VEVENT
DTSTART;TZID=America/New_York:20240404T130000
DTEND;TZID=America/New_York:20240404T140000
DTSTAMP:20260425T205841
CREATED:20240104T184340Z
LAST-MODIFIED:20240104T184531Z
UID:10000015-1712235600-1712239200@utlc.uncg.edu
SUMMARY:VOISES Panel | Hispanic and Latino/a/x/e Student Experiences
DESCRIPTION:Registration is required for this event. Register here to receive the full event details and a calendar invitation confirming your registration. \nJoin the UTLC and Office of Intercultural Engagement for a conversation about key UNCG student experiences in the classroom and beyond. VOISES panels provide a venue for faculty to hear the perspective of students from marginalized identity groups on campus. These moderated panels give faculty the chance to ask questions while reflecting on issues of equity\, diversity\, and inclusion at UNCG. \n 
URL:https://utlc.uncg.edu/event/voises-panel-latinx-student-experiences/
CATEGORIES:Educational Development,VOISES Panel
END:VEVENT
BEGIN:VEVENT
DTSTART;TZID=America/New_York:20240313T110000
DTEND;TZID=America/New_York:20240313T120000
DTSTAMP:20260425T205841
CREATED:20240104T184200Z
LAST-MODIFIED:20240104T184516Z
UID:10000014-1710327600-1710331200@utlc.uncg.edu
SUMMARY:VOISES Panel | Spartans in Recovery Student Experiences
DESCRIPTION:Registration is required for this event. Register here to receive the full event details and a calendar invitation confirming your registration. \nJoin the UTLC and Office of Intercultural Engagement for a conversation about key UNCG student experiences in the classroom and beyond. VOISES panels provide a venue for faculty to hear the perspective of students from marginalized identity groups on campus. These moderated panels give faculty the chance to ask questions while reflecting on issues of equity\, diversity\, and inclusion at UNCG. \n 
URL:https://utlc.uncg.edu/event/voises-panel-students-in-recovery/
CATEGORIES:Educational Development,VOISES Panel
END:VEVENT
BEGIN:VEVENT
DTSTART;TZID=America/New_York:20240215T130000
DTEND;TZID=America/New_York:20240215T140000
DTSTAMP:20260425T205841
CREATED:20240104T183802Z
LAST-MODIFIED:20240126T152620Z
UID:10000012-1708002000-1708005600@utlc.uncg.edu
SUMMARY:VOISES Panel | Black and African American Student Experiences
DESCRIPTION:Registration is required for this event. Register here to receive the full event details and a calendar invitation confirming your registration. \nJoin the UTLC and Office of Intercultural Engagement for a conversation about key UNCG student experiences in the classroom and beyond. VOISES panels provide a venue for faculty to hear the perspective of students from marginalized identity groups on campus. These moderated panels give faculty the chance to ask questions while reflecting on issues of equity\, diversity\, and inclusion at UNCG. \n 
URL:https://utlc.uncg.edu/event/voises-panel-black-student-experiences/
CATEGORIES:Educational Development,VOISES Panel
END:VEVENT
BEGIN:VEVENT
DTSTART;TZID=America/New_York:20231025T130000
DTEND;TZID=America/New_York:20231025T140000
DTSTAMP:20260425T205841
CREATED:20230918T151200Z
LAST-MODIFIED:20230929T180043Z
UID:10000002-1698238800-1698242400@utlc.uncg.edu
SUMMARY:VOISES Panel | Transfer Student Experiences
DESCRIPTION:Registration is required for this event. Register here. Join the UTLC and Office of Intercultural Engagement for a conversation about key UNCG student experiences in the classroom and beyond. VOISES panels provide a venue for faculty to hear the perspective of students from marginalized identity groups on campus. These moderated panels give faculty the chance to ask questions while reflecting on issues of equity\, diversity\, and inclusion at UNCG. \n 
URL:https://utlc.uncg.edu/event/voises-panel-transfer-student-experiences/
CATEGORIES:Educational Development,VOISES Panel
END:VEVENT
BEGIN:VEVENT
DTSTART;TZID=America/New_York:20230928T110000
DTEND;TZID=America/New_York:20230928T120000
DTSTAMP:20260425T205841
CREATED:20230918T151031Z
LAST-MODIFIED:20230918T151302Z
UID:10000001-1695898800-1695902400@utlc.uncg.edu
SUMMARY:VOISES Panel | Neurodivergent Student Experiences
DESCRIPTION:Registration is required for this event. Register here. Join the UTLC and Office of Intercultural Engagement for a conversation about key UNCG student experiences in the classroom and beyond. VOISES panels provide a venue for faculty to hear the perspective of students from marginalized identity groups on campus. These moderated panels give faculty the chance to ask questions while reflecting on issues of equity\, diversity\, and inclusion at UNCG. \n 
URL:https://utlc.uncg.edu/event/voises-panel-1/
LOCATION:Faculty Center
CATEGORIES:Educational Development,VOISES Panel
END:VEVENT
END:VCALENDAR